BEGIN:VCALENDAR
VERSION:2.0
PRODID:-//City of Guelph - ECPv6.15.20//NONSGML v1.0//EN
CALSCALE:GREGORIAN
METHOD:PUBLISH
X-WR-CALNAME:City of Guelph
X-ORIGINAL-URL:https://events.guelph.ca
X-WR-CALDESC:Events for City of Guelph
REFRESH-INTERVAL;VALUE=DURATION:PT1H
X-Robots-Tag:noindex
X-PUBLISHED-TTL:PT1H
BEGIN:VTIMEZONE
TZID:America/New_York
BEGIN:DAYLIGHT
TZOFFSETFROM:-0500
TZOFFSETTO:-0400
TZNAME:EDT
DTSTART:20250309T070000
END:DAYLIGHT
BEGIN:STANDARD
TZOFFSETFROM:-0400
TZOFFSETTO:-0500
TZNAME:EST
DTSTART:20251102T060000
END:STANDARD
BEGIN:DAYLIGHT
TZOFFSETFROM:-0500
TZOFFSETTO:-0400
TZNAME:EDT
DTSTART:20260308T070000
END:DAYLIGHT
BEGIN:STANDARD
TZOFFSETFROM:-0400
TZOFFSETTO:-0500
TZNAME:EST
DTSTART:20261101T060000
END:STANDARD
BEGIN:DAYLIGHT
TZOFFSETFROM:-0500
TZOFFSETTO:-0400
TZNAME:EDT
DTSTART:20270314T070000
END:DAYLIGHT
BEGIN:STANDARD
TZOFFSETFROM:-0400
TZOFFSETTO:-0500
TZNAME:EST
DTSTART:20271107T060000
END:STANDARD
END:VTIMEZONE
BEGIN:VEVENT
DTSTART;TZID=America/New_York:20260331T000000
DTEND;TZID=America/New_York:20260423T235959
DTSTAMP:20260424T104842
CREATED:20260325T200348Z
LAST-MODIFIED:20260421T125453Z
UID:10001062-1774915200-1776988799@events.guelph.ca
SUMMARY:Ward HCD Survey Open House - Survey
DESCRIPTION:The City of Guelph is working on a proposed Heritage Conservation District (HCD) plan for the Ward neighbourhood and we want to hear from you. You’re invited to join us for an open house to learn about the Ward Heritage Conservation District. If you can’t make it to the Open House on March 30\, you can still learn about the proposed HCD plan and provide feedback through Have Your Say. \nThe open house materials will be posted on the Have Your Say page\, and an online survey will be open between March 31 and April 23\, 2026. \n  \n 
URL:https://events.guelph.ca/event/ward-hcd-survey-open-house-survey/
LOCATION:Have Your Say
CATEGORIES:Community Engagement,Survey's
END:VEVENT
BEGIN:VEVENT
DTSTART;TZID=America/New_York:20260417T150000
DTEND;TZID=America/New_York:20260419T170000
DTSTAMP:20260424T104842
CREATED:20260407T131343Z
LAST-MODIFIED:20260407T131343Z
UID:10001066-1776438000-1776618000@events.guelph.ca
SUMMARY:Flag Raising - Sikh Heritage Month
DESCRIPTION:
URL:https://events.guelph.ca/event/flag-raising-sikh-heritage-month/
LOCATION:City Hall\, 1 Carden St\, Guelph\, On\, N1H 3A1\, Canada
CATEGORIES:Flag raising / Market Square lighting
GEO:43.5432336;-80.2483933
X-APPLE-STRUCTURED-LOCATION;VALUE=URI;X-ADDRESS=City Hall 1 Carden St Guelph On N1H 3A1 Canada;X-APPLE-RADIUS=500;X-TITLE=1 Carden St:geo:-80.2483933,43.5432336
END:VEVENT
BEGIN:VEVENT
DTSTART;TZID=America/New_York:20260419T190000
DTEND;TZID=America/New_York:20260426T233000
DTSTAMP:20260424T104842
CREATED:20260204T164150Z
LAST-MODIFIED:20260204T164150Z
UID:10000956-1776625200-1777246200@events.guelph.ca
SUMMARY:Flag Raising and Market Square Lighting - National Volunteer Week
DESCRIPTION:
URL:https://events.guelph.ca/event/flag-raising-and-market-square-lighting-national-volunteer-week/
LOCATION:City Hall\, 1 Carden St\, Guelph\, On\, N1H 3A1\, Canada
CATEGORIES:Flag raising / Market Square lighting
GEO:43.5432336;-80.2483933
X-APPLE-STRUCTURED-LOCATION;VALUE=URI;X-ADDRESS=City Hall 1 Carden St Guelph On N1H 3A1 Canada;X-APPLE-RADIUS=500;X-TITLE=1 Carden St:geo:-80.2483933,43.5432336
END:VEVENT
BEGIN:VEVENT
DTSTART;TZID=America/New_York:20260425T090000
DTEND;TZID=America/New_York:20260425T140000
DTSTAMP:20260424T104842
CREATED:20260310T173820Z
LAST-MODIFIED:20260414T151010Z
UID:10001049-1777107600-1777125600@events.guelph.ca
SUMMARY:Earth Day tree planting
DESCRIPTION:Join the City of Guelph\, the Rotary Club of Guelph and Trees for Guelph for a special Earth Day tree planting event. \nParking (including for bikes) and site access at 335 Laird Road. Trees\, shovels\, mulch\, pails\, and planting instructions will be provided. \nLet’s make this Guelph’s largest ever community tree planting! \nFor more information\, visit: https://guelph.ca/2026/04/celebrate-earth-day-this-year-by-planting-trees-2/ \n 
URL:https://events.guelph.ca/event/earth-day-tree-planting/
LOCATION:Hanlon Creek Forest\, 335 Laird Road\, Guelph\, Ontario\, Canada
CATEGORIES:Environment,Trees
END:VEVENT
END:VCALENDAR